BEGIN:VCALENDAR
VERSION:2.0
PRODID:-//Groove Sounds - ECPv6.15.13.1//NONSGML v1.0//EN
CALSCALE:GREGORIAN
METHOD:PUBLISH
X-WR-CALNAME:Groove Sounds
X-ORIGINAL-URL:https://groovesoundsmusic.com
X-WR-CALDESC:Eventos para Groove Sounds
REFRESH-INTERVAL;VALUE=DURATION:PT1H
X-Robots-Tag:noindex
X-PUBLISHED-TTL:PT1H
BEGIN:VTIMEZONE
TZID:Europe/Paris
BEGIN:DAYLIGHT
TZOFFSETFROM:+0100
TZOFFSETTO:+0200
TZNAME:CEST
DTSTART:20250330T010000
END:DAYLIGHT
BEGIN:STANDARD
TZOFFSETFROM:+0200
TZOFFSETTO:+0100
TZNAME:CET
DTSTART:20251026T010000
END:STANDARD
BEGIN:DAYLIGHT
TZOFFSETFROM:+0100
TZOFFSETTO:+0200
TZNAME:CEST
DTSTART:20260329T010000
END:DAYLIGHT
BEGIN:STANDARD
TZOFFSETFROM:+0200
TZOFFSETTO:+0100
TZNAME:CET
DTSTART:20261025T010000
END:STANDARD
BEGIN:DAYLIGHT
TZOFFSETFROM:+0100
TZOFFSETTO:+0200
TZNAME:CEST
DTSTART:20270328T010000
END:DAYLIGHT
BEGIN:STANDARD
TZOFFSETFROM:+0200
TZOFFSETTO:+0100
TZNAME:CET
DTSTART:20271031T010000
END:STANDARD
END:VTIMEZONE
BEGIN:VEVENT
DTSTART;TZID=Europe/Paris:20260125T173000
DTEND;TZID=Europe/Paris:20260125T230000
DTSTAMP:20260423T185902
CREATED:20251103T195217Z
LAST-MODIFIED:20260110T223916Z
UID:10000001-1769362200-1769382000@groovesoundsmusic.com
SUMMARY:Groove Sounds evento 1
DESCRIPTION:
URL:https://groovesoundsmusic.com/eventos/groove-sounds-evento-1/
LOCATION:Groove Sounds\, Groove Sounds
ATTACH;FMTTYPE=image/webp:https://groovesoundsmusic.com/wp-content/uploads/2025/01/1.webp
END:VEVENT
END:VCALENDAR